BEGIN:VCALENDAR
VERSION:2.0
PRODID:-//Cornerstone Community Church - ECPv6.15.20//NONSGML v1.0//EN
CALSCALE:GREGORIAN
METHOD:PUBLISH
X-ORIGINAL-URL:https://cornerstonechurch.church
X-WR-CALDESC:Events for Cornerstone Community Church
REFRESH-INTERVAL;VALUE=DURATION:PT1H
X-Robots-Tag:noindex
X-PUBLISHED-TTL:PT1H
BEGIN:VTIMEZONE
TZID:UTC
BEGIN:STANDARD
TZOFFSETFROM:+0000
TZOFFSETTO:+0000
TZNAME:UTC
DTSTART:20240101T000000
END:STANDARD
END:VTIMEZONE
BEGIN:VEVENT
DTSTART;TZID=UTC:20250223T170000
DTEND;TZID=UTC:20250223T190000
DTSTAMP:20260424T160527
CREATED:20250111T210725Z
LAST-MODIFIED:20250111T210725Z
UID:10000348-1740330000-1740337200@cornerstonechurch.church
SUMMARY:Community Group: Georgetown
DESCRIPTION:If you live in the Georgetown area\, make plans to join our Georgetown Community Group to get connected and grow together as the body of Christ! For more information on how to get plugged in\, reach out to Gary Hahn (gary@cornerstonechurch.church).
URL:https://cornerstonechurch.church/event/community-group-georgetown/2025-02-23
LOCATION:IN
CATEGORIES:Community Group
END:VEVENT
BEGIN:VEVENT
DTSTART;TZID=UTC:20250226T183000
DTEND;TZID=UTC:20250226T193000
DTSTAMP:20260424T160527
CREATED:20241210T155451Z
LAST-MODIFIED:20241210T155632Z
UID:10000258-1740594600-1740598200@cornerstonechurch.church
SUMMARY:Cornerstone Students: 5th-12th Grade
DESCRIPTION:5th-12th graders are invited to join us on the second and fourth Wednesday of each month as we dive into God’s word together!
URL:https://cornerstonechurch.church/event/cornerstone-students-9th-12th-grade-2-2/2025-02-26
LOCATION:Cornerstone Community Church\, 15419 IN-1\, Leo\, IN\, 46765
CATEGORIES:Students
END:VEVENT
BEGIN:VEVENT
DTSTART;TZID=UTC:20250227T180000
DTEND;TZID=UTC:20250227T200000
DTSTAMP:20260424T160527
CREATED:20250111T210948Z
LAST-MODIFIED:20250111T210948Z
UID:10000372-1740679200-1740686400@cornerstonechurch.church
SUMMARY:Community Group: SW Fort Wayne
DESCRIPTION:If you live in the SW Fort Wayne area\, make plans to join our SW Fort Wayne Community Group to get connected and grow together as the body of Christ! For more information on how to get plugged in\, reach out to Gary Hahn (gary@cornerstonechurch.church).
URL:https://cornerstonechurch.church/event/community-group-sw-fort-wayne/2025-02-27
LOCATION:IN
CATEGORIES:Community Group
END:VEVENT
END:VCALENDAR