BEGIN:VCALENDAR
VERSION:2.0
PRODID:-//Cornerstone Community Church - ECPv6.15.20//NONSGML v1.0//EN
CALSCALE:GREGORIAN
METHOD:PUBLISH
X-WR-CALNAME:Cornerstone Community Church
X-ORIGINAL-URL:https://cornerstonechurch.church
X-WR-CALDESC:Events for Cornerstone Community Church
REFRESH-INTERVAL;VALUE=DURATION:PT1H
X-Robots-Tag:noindex
X-PUBLISHED-TTL:PT1H
BEGIN:VTIMEZONE
TZID:UTC
BEGIN:STANDARD
TZOFFSETFROM:+0000
TZOFFSETTO:+0000
TZNAME:UTC
DTSTART:20240101T000000
END:STANDARD
END:VTIMEZONE
BEGIN:VEVENT
DTSTART;TZID=UTC:20250718T180000
DTEND;TZID=UTC:20250718T200000
DTSTAMP:20260419T222843
CREATED:20250111T205908Z
LAST-MODIFIED:20250111T205908Z
UID:10000313-1752861600-1752868800@cornerstonechurch.church
SUMMARY:Community Group: Leo/Auburn
DESCRIPTION:If you live in the Leo/Auburn area\, make plans to join our Leo/Auburn Community Group to get connected and grow together as the body of Christ! For more information on how to get plugged in\, reach out to Gary Hahn (gary@cornerstonechurch.church).
URL:https://cornerstonechurch.church/event/community-group-leo-auburn-3/2025-07-18
LOCATION:IN
CATEGORIES:Community Group
END:VEVENT
BEGIN:VEVENT
DTSTART;TZID=UTC:20250719T083000
DTEND;TZID=UTC:20250719T093000
DTSTAMP:20260419T222843
CREATED:20250111T205635Z
LAST-MODIFIED:20250111T205635Z
UID:10000301-1752913800-1752917400@cornerstonechurch.church
SUMMARY:Mens Special Ops: Bible Study
DESCRIPTION:All men are invited to join your fellow brothers in Christ and dig into God’s word together!
URL:https://cornerstonechurch.church/event/mens-special-ops-bible-study/2025-07-19
LOCATION:Cornerstone Community Church\, 15419 IN-1\, Leo\, IN\, 46765
END:VEVENT
END:VCALENDAR