BEGIN:VCALENDAR
VERSION:2.0
PRODID:-//Cornerstone Community Church - ECPv6.15.20//NONSGML v1.0//EN
CALSCALE:GREGORIAN
METHOD:PUBLISH
X-ORIGINAL-URL:https://cornerstonechurch.church
X-WR-CALDESC:Events for Cornerstone Community Church
REFRESH-INTERVAL;VALUE=DURATION:PT1H
X-Robots-Tag:noindex
X-PUBLISHED-TTL:PT1H
BEGIN:VTIMEZONE
TZID:UTC
BEGIN:STANDARD
TZOFFSETFROM:+0000
TZOFFSETTO:+0000
TZNAME:UTC
DTSTART:20240101T000000
END:STANDARD
END:VTIMEZONE
BEGIN:VEVENT
DTSTART;TZID=UTC:20250920T083000
DTEND;TZID=UTC:20250920T093000
DTSTAMP:20260420T071955
CREATED:20250111T205635Z
LAST-MODIFIED:20250111T205635Z
UID:10000303-1758357000-1758360600@cornerstonechurch.church
SUMMARY:Mens Special Ops: Bible Study
DESCRIPTION:All men are invited to join your fellow brothers in Christ and dig into God’s word together!
URL:https://cornerstonechurch.church/event/mens-special-ops-bible-study/2025-09-20
LOCATION:Cornerstone Community Church\, 15419 IN-1\, Leo\, IN\, 46765
END:VEVENT
END:VCALENDAR