BEGIN:VCALENDAR
VERSION:2.0
PRODID:-//Cornerstone Community Church - ECPv6.15.20//NONSGML v1.0//EN
CALSCALE:GREGORIAN
METHOD:PUBLISH
X-WR-CALNAME:Cornerstone Community Church
X-ORIGINAL-URL:https://cornerstonechurch.church
X-WR-CALDESC:Events for Cornerstone Community Church
REFRESH-INTERVAL;VALUE=DURATION:PT1H
X-Robots-Tag:noindex
X-PUBLISHED-TTL:PT1H
BEGIN:VTIMEZONE
TZID:UTC
BEGIN:STANDARD
TZOFFSETFROM:+0000
TZOFFSETTO:+0000
TZNAME:UTC
DTSTART:20240101T000000
END:STANDARD
END:VTIMEZONE
BEGIN:VEVENT
DTSTART;TZID=UTC:20251012T081500
DTEND;TZID=UTC:20251012T091500
DTSTAMP:20260420T004044
CREATED:20250910T155210Z
LAST-MODIFIED:20250910T155210Z
UID:10000460-1760256900-1760260500@cornerstonechurch.church
SUMMARY:Women's Bible Study: Genesis
DESCRIPTION:Learn how to study the Bible for yourself (Eph 4:14-15)\, to build a foundation for your faith through Genesis\, and be able to defend a biblical worldview (Ps 11:3\, 1 Peter 3:15-17)! Please reach out for registration details if you are interested in joining! \n 
URL:https://cornerstonechurch.church/event/womens-bible-study-genesis/2025-10-12
LOCATION:Cornerstone Community Church\, 15419 IN-1\, Leo\, IN\, 46765
CATEGORIES:Women
END:VEVENT
BEGIN:VEVENT
DTSTART;TZID=UTC:20251018T081500
DTEND;TZID=UTC:20251018T091500
DTSTAMP:20260420T004044
CREATED:20250910T155210Z
LAST-MODIFIED:20250910T155210Z
UID:10000461-1760775300-1760778900@cornerstonechurch.church
SUMMARY:Women's Bible Study: Genesis
DESCRIPTION:Learn how to study the Bible for yourself (Eph 4:14-15)\, to build a foundation for your faith through Genesis\, and be able to defend a biblical worldview (Ps 11:3\, 1 Peter 3:15-17)! Please reach out for registration details if you are interested in joining! \n 
URL:https://cornerstonechurch.church/event/womens-bible-study-genesis/2025-10-18
LOCATION:Cornerstone Community Church\, 15419 IN-1\, Leo\, IN\, 46765
CATEGORIES:Women
END:VEVENT
BEGIN:VEVENT
DTSTART;TZID=UTC:20251018T083000
DTEND;TZID=UTC:20251018T093000
DTSTAMP:20260420T004045
CREATED:20250111T205635Z
LAST-MODIFIED:20250111T205635Z
UID:10000304-1760776200-1760779800@cornerstonechurch.church
SUMMARY:Mens Special Ops: Bible Study
DESCRIPTION:All men are invited to join your fellow brothers in Christ and dig into God’s word together!
URL:https://cornerstonechurch.church/event/mens-special-ops-bible-study/2025-10-18
LOCATION:Cornerstone Community Church\, 15419 IN-1\, Leo\, IN\, 46765
END:VEVENT
END:VCALENDAR