BEGIN:VCALENDAR
VERSION:2.0
PRODID:-//Cornerstone Community Church - ECPv6.15.20//NONSGML v1.0//EN
CALSCALE:GREGORIAN
METHOD:PUBLISH
X-WR-CALNAME:Cornerstone Community Church
X-ORIGINAL-URL:https://cornerstonechurch.church
X-WR-CALDESC:Events for Cornerstone Community Church
REFRESH-INTERVAL;VALUE=DURATION:PT1H
X-Robots-Tag:noindex
X-PUBLISHED-TTL:PT1H
BEGIN:VTIMEZONE
TZID:UTC
BEGIN:STANDARD
TZOFFSETFROM:+0000
TZOFFSETTO:+0000
TZNAME:UTC
DTSTART:20240101T000000
END:STANDARD
END:VTIMEZONE
BEGIN:VEVENT
DTSTART;TZID=UTC:20251116T081500
DTEND;TZID=UTC:20251116T091500
DTSTAMP:20260418T172249
CREATED:20251025T014456Z
LAST-MODIFIED:20251025T014456Z
UID:10000469-1763280900-1763284500@cornerstonechurch.church
SUMMARY:Women's Bible Study: Genesis
DESCRIPTION:Learn how to study the Bible for yourself (Eph 4:14-15)\, to build a foundation for your faith through Genesis\, and be able to defend a biblical worldview (Ps 11:3\, 1 Peter 3:15-17)! Please reach out for registration details if you are interested in joining! \n 
URL:https://cornerstonechurch.church/event/womens-bible-study-genesis-3/2025-11-16
LOCATION:Cornerstone Community Church\, 15419 IN-1\, Leo\, IN\, 46765
CATEGORIES:Women
END:VEVENT
BEGIN:VEVENT
DTSTART;TZID=UTC:20251119T183000
DTEND;TZID=UTC:20251119T193000
DTSTAMP:20260418T172249
CREATED:20251025T014832Z
LAST-MODIFIED:20251025T015047Z
UID:10000572-1763577000-1763580600@cornerstonechurch.church
SUMMARY:Cornerstone Students: 5th-12th Grade
DESCRIPTION:5th-12th graders are invited to join us on the second and fourth Wednesday of each month as we dive into God’s word together!
URL:https://cornerstonechurch.church/event/cornerstone-students-9th-12th-grade-2-2-2-2-2
LOCATION:Cornerstone Community Church\, 15419 IN-1\, Leo\, IN\, 46765
CATEGORIES:Students
END:VEVENT
END:VCALENDAR